BEGIN:VCALENDAR
VERSION:2.0
PRODID:-//Virginia Highlands Small Business Incubator - ECPv6.2.9//NONSGML v1.0//EN
CALSCALE:GREGORIAN
METHOD:PUBLISH
X-ORIGINAL-URL:https://vhsbi.com
X-WR-CALDESC:Events for Virginia Highlands Small Business Incubator
REFRESH-INTERVAL;VALUE=DURATION:PT1H
X-Robots-Tag:noindex
X-PUBLISHED-TTL:PT1H
BEGIN:VTIMEZONE
TZID:UTC
BEGIN:STANDARD
TZOFFSETFROM:+0000
TZOFFSETTO:+0000
TZNAME:UTC
DTSTART:20210101T000000
END:STANDARD
END:VTIMEZONE
BEGIN:VEVENT
DTSTART;TZID=UTC:20210106T120000
DTEND;TZID=UTC:20210106T130000
DTSTAMP:20260422T230245
CREATED:20200715T183811Z
LAST-MODIFIED:20201202T140113Z
UID:6267-1609934400-1609938000@vhsbi.com
SUMMARY:Business Planning
DESCRIPTION:
URL:https://vhsbi.com/event/business-planning/
LOCATION:ZOOM MEETING\, VA
CATEGORIES:Education,Free
ATTACH;FMTTYPE=image/jpeg:https://vhsbi.com/wp-content/uploads/2020/07/Noon-Knowledge-1-6-21.jpeg
END:VEVENT
END:VCALENDAR