BEGIN:VCALENDAR
VERSION:2.0
PRODID:-//Virginia Highlands Small Business Incubator - ECPv6.2.9//NONSGML v1.0//EN
CALSCALE:GREGORIAN
METHOD:PUBLISH
X-ORIGINAL-URL:https://vhsbi.com
X-WR-CALDESC:Events for Virginia Highlands Small Business Incubator
REFRESH-INTERVAL;VALUE=DURATION:PT1H
X-Robots-Tag:noindex
X-PUBLISHED-TTL:PT1H
BEGIN:VTIMEZONE
TZID:UTC
BEGIN:STANDARD
TZOFFSETFROM:+0000
TZOFFSETTO:+0000
TZNAME:UTC
DTSTART:20210101T000000
END:STANDARD
END:VTIMEZONE
BEGIN:VEVENT
DTSTART;TZID=UTC:20210120T120000
DTEND;TZID=UTC:20210120T130000
DTSTAMP:20260422T230243
CREATED:20200715T183844Z
LAST-MODIFIED:20210112T165109Z
UID:6269-1611144000-1611147600@vhsbi.com
SUMMARY:Rebuilding The Tourism Industry
DESCRIPTION:
URL:https://vhsbi.com/event/rebuilding-the-tourism-industry/
LOCATION:ZOOM MEETING\, VA
CATEGORIES:Education,Free
ATTACH;FMTTYPE=image/png:https://vhsbi.com/wp-content/uploads/2020/12/1-20-21-Rebuilding-the-Tourism-Industry.png
END:VEVENT
END:VCALENDAR