BEGIN:VCALENDAR
VERSION:2.0
PRODID:-//Virginia Highlands Small Business Incubator - ECPv6.2.9//NONSGML v1.0//EN
CALSCALE:GREGORIAN
METHOD:PUBLISH
X-WR-CALNAME:Virginia Highlands Small Business Incubator
X-ORIGINAL-URL:https://vhsbi.com
X-WR-CALDESC:Events for Virginia Highlands Small Business Incubator
REFRESH-INTERVAL;VALUE=DURATION:PT1H
X-Robots-Tag:noindex
X-PUBLISHED-TTL:PT1H
BEGIN:VTIMEZONE
TZID:UTC
BEGIN:STANDARD
TZOFFSETFROM:+0000
TZOFFSETTO:+0000
TZNAME:UTC
DTSTART:20210101T000000
END:STANDARD
END:VTIMEZONE
BEGIN:VEVENT
DTSTART;TZID=UTC:20210126T180000
DTEND;TZID=UTC:20210126T203000
DTSTAMP:20260422T230050
CREATED:20201123T210658Z
LAST-MODIFIED:20201123T210658Z
UID:6364-1611684000-1611693000@vhsbi.com
SUMMARY:2nd Washington Co. Business Challenge Class - Expert Panel (Legal\, Accounting\, Insurance)
DESCRIPTION:
URL:https://vhsbi.com/event/2nd-washington-co-business-challenge-class-expert-panel-legal-accounting-insurance/
LOCATION:ZOOM MEETING\, VA
ATTACH;FMTTYPE=image/jpeg:https://vhsbi.com/wp-content/uploads/2020/11/2021-Wash-Challenge-Flyer.jpeg
END:VEVENT
END:VCALENDAR