BEGIN:VCALENDAR
VERSION:2.0
PRODID:-//Virginia Highlands Small Business Incubator - ECPv6.2.9//NONSGML v1.0//EN
CALSCALE:GREGORIAN
METHOD:PUBLISH
X-ORIGINAL-URL:https://vhsbi.com
X-WR-CALDESC:Events for Virginia Highlands Small Business Incubator
REFRESH-INTERVAL;VALUE=DURATION:PT1H
X-Robots-Tag:noindex
X-PUBLISHED-TTL:PT1H
BEGIN:VTIMEZONE
TZID:UTC
BEGIN:STANDARD
TZOFFSETFROM:+0000
TZOFFSETTO:+0000
TZNAME:UTC
DTSTART:20210101T000000
END:STANDARD
END:VTIMEZONE
BEGIN:VEVENT
DTSTART;TZID=UTC:20210217T120000
DTEND;TZID=UTC:20210217T130000
DTSTAMP:20260422T212030
CREATED:20200715T184035Z
LAST-MODIFIED:20210112T165539Z
UID:6273-1613563200-1613566800@vhsbi.com
SUMMARY:Cyber Security & Protecting Your Data
DESCRIPTION:
URL:https://vhsbi.com/event/cyber-security-protecting-your-data/
LOCATION:ZOOM MEETING\, VA
CATEGORIES:Education,Free
ATTACH;FMTTYPE=image/png:https://vhsbi.com/wp-content/uploads/2020/12/2-17-21-Cyber-Security-Protecting-Your-Data.png
END:VEVENT
END:VCALENDAR