BEGIN:VCALENDAR
VERSION:2.0
PRODID:-//Virginia Highlands Small Business Incubator - ECPv6.2.9//NONSGML v1.0//EN
CALSCALE:GREGORIAN
METHOD:PUBLISH
X-WR-CALNAME:Virginia Highlands Small Business Incubator
X-ORIGINAL-URL:https://vhsbi.com
X-WR-CALDESC:Events for Virginia Highlands Small Business Incubator
REFRESH-INTERVAL;VALUE=DURATION:PT1H
X-Robots-Tag:noindex
X-PUBLISHED-TTL:PT1H
BEGIN:VTIMEZONE
TZID:UTC
BEGIN:STANDARD
TZOFFSETFROM:+0000
TZOFFSETTO:+0000
TZNAME:UTC
DTSTART:20210101T000000
END:STANDARD
END:VTIMEZONE
BEGIN:VEVENT
DTSTART;TZID=UTC:20210303T120000
DTEND;TZID=UTC:20210303T133000
DTSTAMP:20260422T192832
CREATED:20200715T184130Z
LAST-MODIFIED:20210224T211225Z
UID:6275-1614772800-1614778200@vhsbi.com
SUMMARY:Workforce System - What it Can Do For Your Business
DESCRIPTION:
URL:https://vhsbi.com/event/workforce-system-what-it-can-do-for-your-business/
LOCATION:ZOOM MEETING\, VA
CATEGORIES:Education,Free
ATTACH;FMTTYPE=image/png:https://vhsbi.com/wp-content/uploads/2021/02/Workforce-System-What-it-Can-Do-For-Your-Business.png
END:VEVENT
END:VCALENDAR