BEGIN:VCALENDAR
VERSION:2.0
PRODID:-//Virginia Highlands Small Business Incubator - ECPv6.2.9//NONSGML v1.0//EN
CALSCALE:GREGORIAN
METHOD:PUBLISH
X-ORIGINAL-URL:https://vhsbi.com
X-WR-CALDESC:Events for Virginia Highlands Small Business Incubator
REFRESH-INTERVAL;VALUE=DURATION:PT1H
X-Robots-Tag:noindex
X-PUBLISHED-TTL:PT1H
BEGIN:VTIMEZONE
TZID:UTC
BEGIN:STANDARD
TZOFFSETFROM:+0000
TZOFFSETTO:+0000
TZNAME:UTC
DTSTART:20210101T000000
END:STANDARD
END:VTIMEZONE
BEGIN:VEVENT
DTSTART;TZID=UTC:20210929T120000
DTEND;TZID=UTC:20210929T130000
DTSTAMP:20260420T041221
CREATED:20210802T141654Z
LAST-MODIFIED:20210818T194314Z
UID:6590-1632916800-1632920400@vhsbi.com
SUMMARY:iPhone Tips & Tricks
DESCRIPTION:
URL:https://vhsbi.com/event/iphone-tips-tricks/
LOCATION:ZOOM MEETING\, VA
CATEGORIES:Education,Free
ATTACH;FMTTYPE=image/png:https://vhsbi.com/wp-content/uploads/2021/08/iPhone-Tips-Tricks-9-29-21.png
END:VEVENT
END:VCALENDAR