BEGIN:VCALENDAR
VERSION:2.0
PRODID:-//Virginia Highlands Small Business Incubator - ECPv6.2.9//NONSGML v1.0//EN
CALSCALE:GREGORIAN
METHOD:PUBLISH
X-ORIGINAL-URL:https://vhsbi.com
X-WR-CALDESC:Events for Virginia Highlands Small Business Incubator
REFRESH-INTERVAL;VALUE=DURATION:PT1H
X-Robots-Tag:noindex
X-PUBLISHED-TTL:PT1H
BEGIN:VTIMEZONE
TZID:UTC
BEGIN:STANDARD
TZOFFSETFROM:+0000
TZOFFSETTO:+0000
TZNAME:UTC
DTSTART:20210101T000000
END:STANDARD
END:VTIMEZONE
BEGIN:VEVENT
DTSTART;TZID=UTC:20211013T120000
DTEND;TZID=UTC:20211013T130000
DTSTAMP:20260420T055942
CREATED:20210802T141850Z
LAST-MODIFIED:20210818T194241Z
UID:6592-1634126400-1634130000@vhsbi.com
SUMMARY:Managing Leases/Rental Agreements
DESCRIPTION:
URL:https://vhsbi.com/event/managing-leases-rental-agreements/
LOCATION:ZOOM MEETING\, VA
CATEGORIES:Education,Free
ATTACH;FMTTYPE=image/png:https://vhsbi.com/wp-content/uploads/2021/08/Managing-Leases-and-Rental-Agreements-10-13-21.png
END:VEVENT
END:VCALENDAR