BEGIN:VCALENDAR
VERSION:2.0
PRODID:-//Virginia Highlands Small Business Incubator - ECPv6.2.9//NONSGML v1.0//EN
CALSCALE:GREGORIAN
METHOD:PUBLISH
X-WR-CALNAME:Virginia Highlands Small Business Incubator
X-ORIGINAL-URL:https://vhsbi.com
X-WR-CALDESC:Events for Virginia Highlands Small Business Incubator
REFRESH-INTERVAL;VALUE=DURATION:PT1H
X-Robots-Tag:noindex
X-PUBLISHED-TTL:PT1H
BEGIN:VTIMEZONE
TZID:UTC
BEGIN:STANDARD
TZOFFSETFROM:+0000
TZOFFSETTO:+0000
TZNAME:UTC
DTSTART:20220101T000000
END:STANDARD
END:VTIMEZONE
BEGIN:VEVENT
DTSTART;TZID=UTC:20220309T120000
DTEND;TZID=UTC:20220309T130000
DTSTAMP:20260419T193650
CREATED:20210802T144440Z
LAST-MODIFIED:20220224T140936Z
UID:6611-1646827200-1646830800@vhsbi.com
SUMMARY:Reservation and Event Planning
DESCRIPTION:
URL:https://vhsbi.com/event/reservation-and-event-planning-services-costs/
LOCATION:ZOOM MEETING\, VA
CATEGORIES:Education,Free
ATTACH;FMTTYPE=image/png:https://vhsbi.com/wp-content/uploads/2022/02/Reservation-Event-Planning.png
END:VEVENT
END:VCALENDAR