BEGIN:VCALENDAR
VERSION:2.0
PRODID:-//Virginia Highlands Small Business Incubator - ECPv6.2.9//NONSGML v1.0//EN
CALSCALE:GREGORIAN
METHOD:PUBLISH
X-ORIGINAL-URL:https://vhsbi.com
X-WR-CALDESC:Events for Virginia Highlands Small Business Incubator
REFRESH-INTERVAL;VALUE=DURATION:PT1H
X-Robots-Tag:noindex
X-PUBLISHED-TTL:PT1H
BEGIN:VTIMEZONE
TZID:UTC
BEGIN:STANDARD
TZOFFSETFROM:+0000
TZOFFSETTO:+0000
TZNAME:UTC
DTSTART:20250101T000000
END:STANDARD
END:VTIMEZONE
BEGIN:VEVENT
DTSTART;TZID=UTC:20251105T120000
DTEND;TZID=UTC:20251105T130000
DTSTAMP:20260423T132855
CREATED:20250819T161712Z
LAST-MODIFIED:20250819T164928Z
UID:7599-1762344000-1762347600@vhsbi.com
SUMMARY:Noon Knowledge: Expand Your Products or Services Beyond the U.S. with State Funding
DESCRIPTION:
URL:https://vhsbi.com/event/noon-knowledge-expand-your-products-or-services-beyond-the-u-s-with-state-funding/
LOCATION:ZOOM MEETING\, VA
ATTACH;FMTTYPE=image/png:https://vhsbi.com/wp-content/uploads/2025/08/11-5-25-Noon-Knowledge.png
ORGANIZER;CN="Jean Gallagher":MAILTO:jean@vhsbi.com
END:VEVENT
END:VCALENDAR