BEGIN:VCALENDAR
VERSION:2.0
PRODID:-//Virginia Highlands Small Business Incubator - ECPv6.2.9//NONSGML v1.0//EN
CALSCALE:GREGORIAN
METHOD:PUBLISH
X-ORIGINAL-URL:https://vhsbi.com
X-WR-CALDESC:Events for Virginia Highlands Small Business Incubator
REFRESH-INTERVAL;VALUE=DURATION:PT1H
X-Robots-Tag:noindex
X-PUBLISHED-TTL:PT1H
BEGIN:VTIMEZONE
TZID:UTC
BEGIN:STANDARD
TZOFFSETFROM:+0000
TZOFFSETTO:+0000
TZNAME:UTC
DTSTART:20190101T000000
END:STANDARD
END:VTIMEZONE
BEGIN:VEVENT
DTSTART;TZID=UTC:20190807T120000
DTEND;TZID=UTC:20190807T133000
DTSTAMP:20260426T004329
CREATED:20190613T134745Z
LAST-MODIFIED:20190709T201612Z
UID:5917-1565179200-1565184600@vhsbi.com
SUMMARY:How to Airbnb
DESCRIPTION:
URL:https://vhsbi.com/event/how-to-airbnb/
LOCATION:ZOOM MEETING\, VA
CATEGORIES:Education,Free
ATTACH;FMTTYPE=image/png:https://vhsbi.com/wp-content/uploads/2019/07/How-to-Airbnb-August-7-2019.png
END:VEVENT
BEGIN:VEVENT
DTSTART;TZID=UTC:20190828T120000
DTEND;TZID=UTC:20190828T133000
DTSTAMP:20260426T004329
CREATED:20190613T140448Z
LAST-MODIFIED:20190709T201650Z
UID:5919-1566993600-1566999000@vhsbi.com
SUMMARY:Reinvent Continuously: When You Stop Growing\, You Stop Leading
DESCRIPTION:
URL:https://vhsbi.com/event/reinvent-continuously-when-you-stop-growing-you-stop-leading/
LOCATION:ZOOM MEETING\, VA
CATEGORIES:Education,Free
ATTACH;FMTTYPE=image/png:https://vhsbi.com/wp-content/uploads/2019/07/Reinvent-Continously-August-28-2019.png
END:VEVENT
END:VCALENDAR