BEGIN:VCALENDAR
VERSION:2.0
PRODID:-//Virginia Highlands Small Business Incubator - ECPv6.2.9//NONSGML v1.0//EN
CALSCALE:GREGORIAN
METHOD:PUBLISH
X-WR-CALNAME:Virginia Highlands Small Business Incubator
X-ORIGINAL-URL:https://vhsbi.com
X-WR-CALDESC:Events for Virginia Highlands Small Business Incubator
REFRESH-INTERVAL;VALUE=DURATION:PT1H
X-Robots-Tag:noindex
X-PUBLISHED-TTL:PT1H
BEGIN:VTIMEZONE
TZID:UTC
BEGIN:STANDARD
TZOFFSETFROM:+0000
TZOFFSETTO:+0000
TZNAME:UTC
DTSTART:20190101T000000
END:STANDARD
END:VTIMEZONE
BEGIN:VEVENT
DTSTART;TZID=UTC:20191204T120000
DTEND;TZID=UTC:20191204T133000
DTSTAMP:20260426T011812
CREATED:20190613T152343Z
LAST-MODIFIED:20190709T202052Z
UID:5935-1575460800-1575466200@vhsbi.com
SUMMARY:Utilizing MailChimp for Your Business or Non-Profit Organization
DESCRIPTION:
URL:https://vhsbi.com/event/utilizing-mailchimp-for-your-business-or-non-profit-organization/
LOCATION:ZOOM MEETING\, VA
CATEGORIES:Education,Free
ATTACH;FMTTYPE=image/png:https://vhsbi.com/wp-content/uploads/2019/07/Utilizing-MailChimp-for-Your-Business-December-4-2019.png
END:VEVENT
END:VCALENDAR