BEGIN:VCALENDAR
VERSION:2.0
PRODID:-//Virginia Highlands Small Business Incubator - ECPv6.2.9//NONSGML v1.0//EN
CALSCALE:GREGORIAN
METHOD:PUBLISH
X-ORIGINAL-URL:https://vhsbi.com
X-WR-CALDESC:Events for Virginia Highlands Small Business Incubator
REFRESH-INTERVAL;VALUE=DURATION:PT1H
X-Robots-Tag:noindex
X-PUBLISHED-TTL:PT1H
BEGIN:VTIMEZONE
TZID:UTC
BEGIN:STANDARD
TZOFFSETFROM:+0000
TZOFFSETTO:+0000
TZNAME:UTC
DTSTART:20190101T000000
END:STANDARD
END:VTIMEZONE
BEGIN:VEVENT
DTSTART;TZID=UTC:20191120T120000
DTEND;TZID=UTC:20191120T133000
DTSTAMP:20260425T215732
CREATED:20190613T152144Z
LAST-MODIFIED:20190709T202025Z
UID:5933-1574251200-1574256600@vhsbi.com
SUMMARY:Change the Perception\, Change the Reality: Changing the Way You Communicate with Others to Change the Outcome
DESCRIPTION:
URL:https://vhsbi.com/event/change-the-perception-change-the-reality-changing-the-way-you-communicate-with-others-to-change-the-outcome/
LOCATION:ZOOM MEETING\, VA
CATEGORIES:Education,Free
ATTACH;FMTTYPE=image/png:https://vhsbi.com/wp-content/uploads/2019/07/Change-the-Way-You-Communicate-November-20-2019.png
END:VEVENT
END:VCALENDAR