BEGIN:VCALENDAR
VERSION:2.0
PRODID:-//Virginia Highlands Small Business Incubator - ECPv6.2.9//NONSGML v1.0//EN
CALSCALE:GREGORIAN
METHOD:PUBLISH
X-ORIGINAL-URL:https://vhsbi.com
X-WR-CALDESC:Events for Virginia Highlands Small Business Incubator
REFRESH-INTERVAL;VALUE=DURATION:PT1H
X-Robots-Tag:noindex
X-PUBLISHED-TTL:PT1H
BEGIN:VTIMEZONE
TZID:UTC
BEGIN:STANDARD
TZOFFSETFROM:+0000
TZOFFSETTO:+0000
TZNAME:UTC
DTSTART:20200101T000000
END:STANDARD
END:VTIMEZONE
BEGIN:VEVENT
DTSTART;TZID=UTC:20201104T120000
DTEND;TZID=UTC:20201104T133000
DTSTAMP:20260423T043537
CREATED:20200715T183554Z
LAST-MODIFIED:20201016T153742Z
UID:6261-1604491200-1604496600@vhsbi.com
SUMMARY:Financial Literacy
DESCRIPTION:
URL:https://vhsbi.com/event/financial-literacy/
LOCATION:ZOOM MEETING\, VA
CATEGORIES:Education,Free
ATTACH;FMTTYPE=image/png:https://vhsbi.com/wp-content/uploads/2020/07/11-4-20-Financial-Literacy.png
END:VEVENT
BEGIN:VEVENT
DTSTART;TZID=UTC:20201118T120000
DTEND;TZID=UTC:20201118T133000
DTSTAMP:20260423T043537
CREATED:20200715T183642Z
LAST-MODIFIED:20201016T153811Z
UID:6263-1605700800-1605706200@vhsbi.com
SUMMARY:Marketing Changes Post COVID
DESCRIPTION:
URL:https://vhsbi.com/event/marketing-changes-post-covid/
LOCATION:ZOOM MEETING\, VA
CATEGORIES:Education,Free
ATTACH;FMTTYPE=image/png:https://vhsbi.com/wp-content/uploads/2020/07/Marketing-Changes-Post-Covid.png
END:VEVENT
END:VCALENDAR