BEGIN:VCALENDAR
VERSION:2.0
PRODID:-//Virginia Highlands Small Business Incubator - ECPv6.2.9//NONSGML v1.0//EN
CALSCALE:GREGORIAN
METHOD:PUBLISH
X-ORIGINAL-URL:https://vhsbi.com
X-WR-CALDESC:Events for Virginia Highlands Small Business Incubator
REFRESH-INTERVAL;VALUE=DURATION:PT1H
X-Robots-Tag:noindex
X-PUBLISHED-TTL:PT1H
BEGIN:VTIMEZONE
TZID:UTC
BEGIN:STANDARD
TZOFFSETFROM:+0000
TZOFFSETTO:+0000
TZNAME:UTC
DTSTART:20210101T000000
END:STANDARD
END:VTIMEZONE
BEGIN:VEVENT
DTSTART;TZID=UTC:20210202T180000
DTEND;TZID=UTC:20210202T203000
DTSTAMP:20260422T193225
CREATED:20201123T210859Z
LAST-MODIFIED:20201123T210859Z
UID:6367-1612288800-1612297800@vhsbi.com
SUMMARY:3rd Washington Co. Business Challenge Class - Credit and Managing a Business
DESCRIPTION:
URL:https://vhsbi.com/event/3rd-washington-co-business-challenge-class-credit-and-managing-a-business/
LOCATION:ZOOM MEETING\, VA
ATTACH;FMTTYPE=image/jpeg:https://vhsbi.com/wp-content/uploads/2020/11/2021-Wash-Challenge-Flyer.jpeg
END:VEVENT
BEGIN:VEVENT
DTSTART;TZID=UTC:20210203T120000
DTEND;TZID=UTC:20210203T130000
DTSTAMP:20260422T193225
CREATED:20200715T183938Z
LAST-MODIFIED:20210112T165441Z
UID:6271-1612353600-1612357200@vhsbi.com
SUMMARY:Marketing in a Changing Economic Landscape
DESCRIPTION:
URL:https://vhsbi.com/event/marketing-in-a-changing-economic-landscape/
LOCATION:ZOOM MEETING\, VA
CATEGORIES:Education,Free
ATTACH;FMTTYPE=image/png:https://vhsbi.com/wp-content/uploads/2020/12/2-3-21-Marketing-in-a-Changing-Economic-Landscape.png
END:VEVENT
BEGIN:VEVENT
DTSTART;TZID=UTC:20210209T180000
DTEND;TZID=UTC:20210209T203000
DTSTAMP:20260422T193225
CREATED:20201123T211111Z
LAST-MODIFIED:20201123T211111Z
UID:6369-1612893600-1612902600@vhsbi.com
SUMMARY:4th Washington Co. Business Challenge Class - Marketing\, Promotion and Customer Service
DESCRIPTION:
URL:https://vhsbi.com/event/4th-washington-co-business-challenge-class-marketing-promotion-and-customer-service/
LOCATION:ZOOM MEETING\, VA
ATTACH;FMTTYPE=image/jpeg:https://vhsbi.com/wp-content/uploads/2020/11/2021-Wash-Challenge-Flyer.jpeg
END:VEVENT
BEGIN:VEVENT
DTSTART;TZID=UTC:20210216T180000
DTEND;TZID=UTC:20210216T203000
DTSTAMP:20260422T193225
CREATED:20201123T211304Z
LAST-MODIFIED:20201123T211304Z
UID:6371-1613498400-1613507400@vhsbi.com
SUMMARY:5th Washington Co. Business Challenge Class - Where's the Money? Panel of Financial Experts
DESCRIPTION:
URL:https://vhsbi.com/event/5th-washington-co-business-challenge-class-wheres-the-money-panel-of-financial-experts/
LOCATION:ZOOM MEETING\, VA
ATTACH;FMTTYPE=image/jpeg:https://vhsbi.com/wp-content/uploads/2020/11/2021-Wash-Challenge-Flyer.jpeg
END:VEVENT
BEGIN:VEVENT
DTSTART;TZID=UTC:20210217T120000
DTEND;TZID=UTC:20210217T130000
DTSTAMP:20260422T193225
CREATED:20200715T184035Z
LAST-MODIFIED:20210112T165539Z
UID:6273-1613563200-1613566800@vhsbi.com
SUMMARY:Cyber Security & Protecting Your Data
DESCRIPTION:
URL:https://vhsbi.com/event/cyber-security-protecting-your-data/
LOCATION:ZOOM MEETING\, VA
CATEGORIES:Education,Free
ATTACH;FMTTYPE=image/png:https://vhsbi.com/wp-content/uploads/2020/12/2-17-21-Cyber-Security-Protecting-Your-Data.png
END:VEVENT
BEGIN:VEVENT
DTSTART;TZID=UTC:20210223T180000
DTEND;TZID=UTC:20210223T203000
DTSTAMP:20260422T193225
CREATED:20201123T211433Z
LAST-MODIFIED:20201123T211433Z
UID:6373-1614103200-1614112200@vhsbi.com
SUMMARY:Washington County Business Challenge - Pitch Night
DESCRIPTION:
URL:https://vhsbi.com/event/washington-county-business-challenge-pitch-night/
LOCATION:ZOOM MEETING\, VA
ATTACH;FMTTYPE=image/jpeg:https://vhsbi.com/wp-content/uploads/2020/11/2021-Wash-Challenge-Flyer.jpeg
END:VEVENT
END:VCALENDAR