BEGIN:VCALENDAR
VERSION:2.0
PRODID:-//Virginia Highlands Small Business Incubator - ECPv6.2.9//NONSGML v1.0//EN
CALSCALE:GREGORIAN
METHOD:PUBLISH
X-WR-CALNAME:Virginia Highlands Small Business Incubator
X-ORIGINAL-URL:https://vhsbi.com
X-WR-CALDESC:Events for Virginia Highlands Small Business Incubator
REFRESH-INTERVAL;VALUE=DURATION:PT1H
X-Robots-Tag:noindex
X-PUBLISHED-TTL:PT1H
BEGIN:VTIMEZONE
TZID:UTC
BEGIN:STANDARD
TZOFFSETFROM:+0000
TZOFFSETTO:+0000
TZNAME:UTC
DTSTART:20220101T000000
END:STANDARD
END:VTIMEZONE
BEGIN:VEVENT
DTSTART;TZID=UTC:20220111T090000
DTEND;TZID=UTC:20220111T170000
DTSTAMP:20260419T212217
CREATED:20211209T142728Z
LAST-MODIFIED:20211213T152519Z
UID:6693-1641891600-1641920400@vhsbi.com
SUMMARY:Washington County Business Challenge 2022 - Applications due by 5PM today (See Application and Rules linked below)
DESCRIPTION:Business Challenge Rules\, Application\, & Mentor list  \nBusiness Challenge Application Only
URL:https://vhsbi.com/event/washington-county-business-challenge-2022-applications-due-today/
ATTACH;FMTTYPE=image/jpeg:https://vhsbi.com/wp-content/uploads/2021/12/Washington-County-2022-Business-Challenge.jpg
END:VEVENT
BEGIN:VEVENT
DTSTART;TZID=UTC:20220112T120000
DTEND;TZID=UTC:20220112T130000
DTSTAMP:20260419T212217
CREATED:20210802T143325Z
LAST-MODIFIED:20211209T163336Z
UID:6602-1641988800-1641992400@vhsbi.com
SUMMARY:Key Elements of a Business Plan
DESCRIPTION:
URL:https://vhsbi.com/event/key-elements-of-a-business-plan/
LOCATION:ZOOM MEETING\, VA
CATEGORIES:Education,Free
ATTACH;FMTTYPE=image/png:https://vhsbi.com/wp-content/uploads/2021/12/Key-Elements-of-a-Business-Plan-January-12-2022.png
END:VEVENT
BEGIN:VEVENT
DTSTART;TZID=UTC:20220118T180000
DTEND;TZID=UTC:20220118T203000
DTSTAMP:20260419T212217
CREATED:20211209T142902Z
LAST-MODIFIED:20211209T143441Z
UID:6695-1642528800-1642537800@vhsbi.com
SUMMARY:Washington County Business Challenge - 1st Class: Intro to Starting a Business
DESCRIPTION:
URL:https://vhsbi.com/event/washington-county-business-challenge-intro-to-starting-a-business/
LOCATION:ZOOM MEETING\, VA
ATTACH;FMTTYPE=image/jpeg:https://vhsbi.com/wp-content/uploads/2021/12/Washington-County-2022-Business-Challenge.jpg
END:VEVENT
BEGIN:VEVENT
DTSTART;TZID=UTC:20220125T180000
DTEND;TZID=UTC:20220125T203000
DTSTAMP:20260419T212217
CREATED:20211209T143024Z
LAST-MODIFIED:20211209T143519Z
UID:6697-1643133600-1643142600@vhsbi.com
SUMMARY:Washington County Business Challenge - 2nd Class: Expert Panel (Legal\, Accounting\, Insurance)
DESCRIPTION:
URL:https://vhsbi.com/event/washington-county-business-challenge-expert-panel-legal-accounting-insurance/
LOCATION:ZOOM MEETING\, VA
ATTACH;FMTTYPE=image/jpeg:https://vhsbi.com/wp-content/uploads/2021/12/Washington-County-2022-Business-Challenge.jpg
END:VEVENT
BEGIN:VEVENT
DTSTART;TZID=UTC:20220126T120000
DTEND;TZID=UTC:20220126T130000
DTSTAMP:20260419T212217
CREATED:20210802T143840Z
LAST-MODIFIED:20211209T163411Z
UID:6604-1643198400-1643202000@vhsbi.com
SUMMARY:Financial Projections
DESCRIPTION:
URL:https://vhsbi.com/event/financial-projections/
LOCATION:ZOOM MEETING\, VA
CATEGORIES:Education,Free
ATTACH;FMTTYPE=image/png:https://vhsbi.com/wp-content/uploads/2021/12/Financial-Projections-January-26-2022.png
END:VEVENT
END:VCALENDAR