BEGIN:VCALENDAR
VERSION:2.0
PRODID:-//Virginia Highlands Small Business Incubator - ECPv6.2.9//NONSGML v1.0//EN
CALSCALE:GREGORIAN
METHOD:PUBLISH
X-WR-CALNAME:Virginia Highlands Small Business Incubator
X-ORIGINAL-URL:https://vhsbi.com
X-WR-CALDESC:Events for Virginia Highlands Small Business Incubator
REFRESH-INTERVAL;VALUE=DURATION:PT1H
X-Robots-Tag:noindex
X-PUBLISHED-TTL:PT1H
BEGIN:VTIMEZONE
TZID:UTC
BEGIN:STANDARD
TZOFFSETFROM:+0000
TZOFFSETTO:+0000
TZNAME:UTC
DTSTART:20220101T000000
END:STANDARD
END:VTIMEZONE
BEGIN:VEVENT
DTSTART;TZID=UTC:20220201T180000
DTEND;TZID=UTC:20220201T203000
DTSTAMP:20260419T193648
CREATED:20211209T143620Z
LAST-MODIFIED:20211209T143723Z
UID:6702-1643738400-1643747400@vhsbi.com
SUMMARY:Washington County Business Challenge - 3rd Class: Credit and Managing a Business
DESCRIPTION:
URL:https://vhsbi.com/event/washington-county-business-challenge-3rd-class-credit-and-managing-a-business/
LOCATION:ZOOM MEETING\, VA
ATTACH;FMTTYPE=image/jpeg:https://vhsbi.com/wp-content/uploads/2021/12/Washington-County-2022-Business-Challenge.jpg
END:VEVENT
BEGIN:VEVENT
DTSTART;TZID=UTC:20220208T180000
DTEND;TZID=UTC:20220208T203000
DTSTAMP:20260419T193648
CREATED:20211209T143859Z
LAST-MODIFIED:20211209T143859Z
UID:6704-1644343200-1644352200@vhsbi.com
SUMMARY:Washington County Business Challenge - 4th Class: Marketing\, Promotion and Customer Service
DESCRIPTION:
URL:https://vhsbi.com/event/washington-county-business-challenge-4th-class-marketing-promotion-and-customer-service/
LOCATION:ZOOM MEETING\, VA
ATTACH;FMTTYPE=image/jpeg:https://vhsbi.com/wp-content/uploads/2021/12/Washington-County-2022-Business-Challenge.jpg
END:VEVENT
BEGIN:VEVENT
DTSTART;TZID=UTC:20220209T120000
DTEND;TZID=UTC:20220209T130000
DTSTAMP:20260419T193648
CREATED:20210802T144025Z
LAST-MODIFIED:20220203T205011Z
UID:6606-1644408000-1644411600@vhsbi.com
SUMMARY:Setting Up a Tourism Business
DESCRIPTION:
URL:https://vhsbi.com/event/setting-up-a-tourism-business/
LOCATION:ZOOM MEETING\, VA
CATEGORIES:Education,Free
ATTACH;FMTTYPE=image/png:https://vhsbi.com/wp-content/uploads/2022/02/Setting-Up-a-Tourism-Business.png
END:VEVENT
BEGIN:VEVENT
DTSTART;TZID=UTC:20220215T180000
DTEND;TZID=UTC:20220215T203000
DTSTAMP:20260419T193648
CREATED:20211209T144032Z
LAST-MODIFIED:20211209T144032Z
UID:6706-1644948000-1644957000@vhsbi.com
SUMMARY:Washington County Business Challenge - 5th Class: Where's the Money? Panel of Financial Experts
DESCRIPTION:
URL:https://vhsbi.com/event/washington-county-business-challenge-5th-class-wheres-the-money-panel-of-financial-experts/
LOCATION:ZOOM MEETING\, VA
ATTACH;FMTTYPE=image/jpeg:https://vhsbi.com/wp-content/uploads/2021/12/Washington-County-2022-Business-Challenge.jpg
END:VEVENT
BEGIN:VEVENT
DTSTART;TZID=UTC:20220222T180000
DTEND;TZID=UTC:20220222T203000
DTSTAMP:20260419T193648
CREATED:20211209T144226Z
LAST-MODIFIED:20211209T144226Z
UID:6708-1645552800-1645561800@vhsbi.com
SUMMARY:Washington County Business Challenge - 6th Night: Pitch Night
DESCRIPTION:
URL:https://vhsbi.com/event/washington-county-business-challenge-6th-night-pitch-night/
LOCATION:ZOOM MEETING\, VA
ATTACH;FMTTYPE=image/jpeg:https://vhsbi.com/wp-content/uploads/2021/12/Washington-County-2022-Business-Challenge.jpg
END:VEVENT
BEGIN:VEVENT
DTSTART;TZID=UTC:20220223T120000
DTEND;TZID=UTC:20220223T130000
DTSTAMP:20260419T193648
CREATED:20210802T144229Z
LAST-MODIFIED:20211209T163512Z
UID:6609-1645617600-1645621200@vhsbi.com
SUMMARY:Video Development - How to develop and push video out
DESCRIPTION:
URL:https://vhsbi.com/event/video-development-how-to-develop-and-push-video-out/
LOCATION:ZOOM MEETING\, VA
CATEGORIES:Education,Free
ATTACH;FMTTYPE=image/png:https://vhsbi.com/wp-content/uploads/2021/12/Video-Development-February-23-2022.png
END:VEVENT
END:VCALENDAR