BEGIN:VCALENDAR
VERSION:2.0
PRODID:-//Virginia Highlands Small Business Incubator - ECPv6.2.9//NONSGML v1.0//EN
CALSCALE:GREGORIAN
METHOD:PUBLISH
X-WR-CALNAME:Virginia Highlands Small Business Incubator
X-ORIGINAL-URL:https://vhsbi.com
X-WR-CALDESC:Events for Virginia Highlands Small Business Incubator
REFRESH-INTERVAL;VALUE=DURATION:PT1H
X-Robots-Tag:noindex
X-PUBLISHED-TTL:PT1H
BEGIN:VTIMEZONE
TZID:UTC
BEGIN:STANDARD
TZOFFSETFROM:+0000
TZOFFSETTO:+0000
TZNAME:UTC
DTSTART:20220101T000000
END:STANDARD
END:VTIMEZONE
BEGIN:VEVENT
DTSTART;TZID=UTC:20220406T120000
DTEND;TZID=UTC:20220406T130000
DTSTAMP:20260419T160107
CREATED:20210802T145730Z
LAST-MODIFIED:20220316T191404Z
UID:6616-1649246400-1649250000@vhsbi.com
SUMMARY:What Social Media Channels Should I Use For My Business/Organization
DESCRIPTION:
URL:https://vhsbi.com/event/what-social-media-channels-should-i-use-for-my-business-organization/
LOCATION:ZOOM MEETING\, VA
CATEGORIES:Education,Free
ATTACH;FMTTYPE=image/png:https://vhsbi.com/wp-content/uploads/2022/03/What-Social-Media-Channels-Should-I-Be-Using-April-6.png
END:VEVENT
BEGIN:VEVENT
DTSTART;TZID=UTC:20220420T120000
DTEND;TZID=UTC:20220420T130000
DTSTAMP:20260419T160107
CREATED:20210802T145828Z
LAST-MODIFIED:20220316T191431Z
UID:6618-1650456000-1650459600@vhsbi.com
SUMMARY:QuickBooks Hands On Session #1
DESCRIPTION:
URL:https://vhsbi.com/event/quickbooks-hands-on-session-1/
LOCATION:ZOOM MEETING\, VA
CATEGORIES:Education,Free
ATTACH;FMTTYPE=image/png:https://vhsbi.com/wp-content/uploads/2022/03/Quickbooks-Series-2022.png
END:VEVENT
BEGIN:VEVENT
DTSTART;TZID=UTC:20220421T080000
DTEND;TZID=UTC:20220421T100000
DTSTAMP:20260419T160107
CREATED:20211209T144537Z
LAST-MODIFIED:20220317T155505Z
UID:6710-1650528000-1650535200@vhsbi.com
SUMMARY:Washington County Business Challenge - Winners Announced
DESCRIPTION:
URL:https://vhsbi.com/event/washington-county-business-challenge-winners-announced/
ATTACH;FMTTYPE=image/jpeg:https://vhsbi.com/wp-content/uploads/2021/12/Washington-County-2022-Business-Challenge.jpg
END:VEVENT
END:VCALENDAR